BEGIN:VCALENDAR
VERSION:2.0
PRODID:-//wp-events-plugin.com//7.2.3.1//EN
BEGIN:VEVENT
UID:23@cencoos.org
DTSTART:20251201T110000Z
DTEND:20251201T130000Z
DTSTAMP:20260407T174500Z
URL:https://www.cencoos.org/events/cencoos-governing-council-meeting-decem
 ber-2025/
SUMMARY:CeNCOOS Governing Council Meeting - December 2025
DESCRIPTION:In December 2025\, we met with our Governing Council to discuss
  planning for the upcoming funding proposal\, including the anticipated NO
 FO timeline and adjustments needed to align current spending with projecte
 d funding levels. The Ocean Protection Council shared updates on its strat
 egic plan\, Proposition 4 funding\, and ocean science programs\, while NOA
 A representatives provided updates on agency priorities and leadership cha
 nges. The Council also reviewed budget allocations for ocean observing pro
 grams and discussed governance and outreach efforts\, including new member
 ship and approval of the budget for CeNCOOS’s coastal observations progr
 am. Read the full summary here.
END:VEVENT
END:VCALENDAR