BEGIN:VCALENDAR
VERSION:2.0
PRODID:-//wp-events-plugin.com//7.2.3.1//EN
BEGIN:VEVENT
UID:21@cencoos.org
DTSTART;VALUE=DATE:20250806
DTEND;VALUE=DATE:20250807
DTSTAMP:20250908T191944Z
URL:https://www.cencoos.org/events/cencoos-governing-council-meeting-summe
 r-2025/
SUMMARY:CeNCOOS Governing Council Meeting – Summer 2025
DESCRIPTION:Overview: The CeNCOOS Governing Council convened on August 6 fo
 r its annual Fall/Summer meeting. The meeting focused on navigating federa
 l funding uncertainties and strategic planning for their next 5-year propo
 sal cycle (FY26-31). The Council established a process for developing the 
 upcoming 5-year proposal considering significant time constraints. Access 
 the full meeting agenda and summary here.
END:VEVENT
END:VCALENDAR