BEGIN:VCALENDAR
VERSION:2.0
PRODID:-//wp-events-plugin.com//7.2.3.1//EN
BEGIN:VEVENT
UID:11@cencoos.org
DTSTART:20221214T090000Z
DTEND:20221214T120000Z
DTSTAMP:20221129T042444Z
URL:https://www.cencoos.org/events/cencoos-governing-council-winter-2022-m
 eeting/
SUMMARY:CeNCOOS Governing Council - Winter 2022 Meeting
DESCRIPTION:The CeNCOOS Governing Council will meet remotely on Wednesday\,
  December 14 at 9am-12pm PDT. Discussion topics include NOAA priorities\, 
 Offshore Wind\, and council membership.
END:VEVENT
END:VCALENDAR