BEGIN:VCALENDAR
VERSION:2.0
PRODID:-//wp-events-plugin.com//7.2.3.1//EN
BEGIN:VEVENT
UID:19@cencoos.org
DTSTART;VALUE=DATE:20241210
DTEND;VALUE=DATE:20241212
DTSTAMP:20250203T190506Z
URL:https://www.cencoos.org/events/cencoos-science-impact-governing-counci
 l-and-20-year-meeting/
SUMMARY:CeNCOOS Science Impact\, Governing Council\, and 20-Year Meeting
DESCRIPTION:The Central and Northern California Ocean Observing System (CeN
 COOS) Science Impact\, Governing Council\, and 20-Year Meeting was hosted 
 by CeNCOOS with support from Synchro. The event took place from December 1
 0–11\, 2024\, at the Fort Mason Firehouse in San Francisco\, California.
  The meeting aimed to commemorate the successes of the last five years and
  to collectively take stock of the remaining challenges and opportunities 
 for advancement. Approximately 50 participants from the CeNCOOS community 
 attended the meeting\, including members from the Governing & Executive Co
 uncil\, observing system representatives\, and a diverse array of communit
 y partners. Participants represented a blend of federal & state agencies\,
  environmental non-profits\, academic research institutions\, and maritime
  industries (e.g. fisheries and shellfisheries). Taken together\, this div
 erse set of backgrounds and expertises resulted in rich and expansive dial
 ogue about past successes\, current challenges\, and strategic directions 
 for the program. 
END:VEVENT
END:VCALENDAR