BEGIN:VCALENDAR
VERSION:2.0
PRODID:-//wp-events-plugin.com//7.2.3.1//EN
BEGIN:VEVENT
UID:8@cencoos.org
DTSTART;TZID=America/Los_Angeles:20200619T110000
DTEND;TZID=America/Los_Angeles:20200619T120000
DTSTAMP:20200620T025815Z
URL:https://www.cencoos.org/events/eoi-webinar/
SUMMARY:Call for EOIs Informational Webinar
DESCRIPTION:View the slides here.\nWatch the webinar recording here. \nOn 
 Thursday\, June 18\, 2020 at 11:00 AM PT we held a webinar to introduce co
 ncepts related to the EOI call and answer any questions. \n\nCeNCOOS and S
 CCOOS are soliciting EOIs to include in the next 5-year proposal to NOAA-I
 OOS. The call for EOIs will open on Monday\, June 8\, 2020 and close on We
 dnesday\, July 8\, 2020. Here is the link to the online submission form. \
 n\nAdditionally\, to help foster cross-collaboration and engagement among 
 research scientists in the region\, we have created a spreadsheet to facil
 itate partnerships during the  EOI process.\n
ATTACH;FMTTYPE=image/jpeg:https://www.cencoos.org/wp-content/uploads/2020/
 05/AdobeStock_186233151-scaled.jpeg
END:VEVENT
BEGIN:VTIMEZONE
TZID:America/Los_Angeles
X-LIC-LOCATION:America/Los_Angeles
BEGIN:DAYLIGHT
DTSTART:20200308T030000
TZOFFSETFROM:-0800
TZOFFSETTO:-0700
TZNAME:PDT
END:DAYLIGHT
END:VTIMEZONE
END:VCALENDAR