BEGIN:VCALENDAR
VERSION:2.0
PRODID:-//wp-events-plugin.com//7.2.3.1//EN
BEGIN:VEVENT
UID:3@cencoos.org
DTSTART:20200219T190000Z
DTEND:20200219T200000Z
DTSTAMP:20200210T034414Z
URL:https://www.cencoos.org/events/networking-lunch-at-ocean-sciences-meet
 ing-2020/
SUMMARY:Networking Lunch at Ocean Sciences Meeting 2020
DESCRIPTION:The West Coast Biological Observation Network and the Ocean Aci
 dification International Alliance will hold a networking lunch during the 
 2020 Ocean Sciences Meeting.
LOCATION:Marriott Marquis San Diego Marina\, 333 West Harbor Drive\, San Di
 ego\, CA\, 92101\, United States
X-APPLE-STRUCTURED-LOCATION;VALUE=URI;X-ADDRESS=333 West Harbor Drive\, San
  Diego\, CA\, 92101\, United States;X-APPLE-RADIUS=100;X-TITLE=Marriott Ma
 rquis San Diego Marina:geo:0,0
END:VEVENT
END:VCALENDAR