BEGIN:VCALENDAR
VERSION:2.0
PRODID:-//wp-events-plugin.com//7.2.3.1//EN
BEGIN:VEVENT
UID:7@cencoos.org
DTSTART:20200718T120000Z
DTEND:20200718T170000Z
DTSTAMP:20200430T043419Z
URL:https://www.cencoos.org/events/open-house/
SUMMARY:Cancelled: MBARI Open House
DESCRIPTION:On Saturday\, July 18\, 2020\, MBARI — host of the CeNCOOS or
 ganization — will open its doors to the public during its annual Open Ho
 use. Visitors can enjoy science exhibits and presentations\, deep-sea vide
 os\, children's activities and more.
LOCATION:Monterey Bay Research Institute\, 7700 Sandholdt Road\, Moss Landi
 ng\, California\, 95039\, United States
X-APPLE-STRUCTURED-LOCATION;VALUE=URI;X-ADDRESS=7700 Sandholdt Road\, Moss 
 Landing\, California\, 95039\, United States;X-APPLE-RADIUS=100;X-TITLE=Mo
 nterey Bay Research Institute:geo:0,0
END:VEVENT
END:VCALENDAR